BEGIN:VCALENDAR
VERSION:2.0
PRODID:-//MI-APWA Events - ECPv6.15.17//NONSGML v1.0//EN
CALSCALE:GREGORIAN
METHOD:PUBLISH
X-ORIGINAL-URL:https://miapwaevents.com
X-WR-CALDESC:Events for MI-APWA Events
REFRESH-INTERVAL;VALUE=DURATION:PT1H
X-Robots-Tag:noindex
X-PUBLISHED-TTL:PT1H
BEGIN:VTIMEZONE
TZID:America/Detroit
BEGIN:DAYLIGHT
TZOFFSETFROM:-0500
TZOFFSETTO:-0400
TZNAME:EDT
DTSTART:20210314T070000
END:DAYLIGHT
BEGIN:STANDARD
TZOFFSETFROM:-0400
TZOFFSETTO:-0500
TZNAME:EST
DTSTART:20211107T060000
END:STANDARD
BEGIN:DAYLIGHT
TZOFFSETFROM:-0500
TZOFFSETTO:-0400
TZNAME:EDT
DTSTART:20220313T070000
END:DAYLIGHT
BEGIN:STANDARD
TZOFFSETFROM:-0400
TZOFFSETTO:-0500
TZNAME:EST
DTSTART:20221106T060000
END:STANDARD
BEGIN:DAYLIGHT
TZOFFSETFROM:-0500
TZOFFSETTO:-0400
TZNAME:EDT
DTSTART:20230312T070000
END:DAYLIGHT
BEGIN:STANDARD
TZOFFSETFROM:-0400
TZOFFSETTO:-0500
TZNAME:EST
DTSTART:20231105T060000
END:STANDARD
END:VTIMEZONE
BEGIN:VEVENT
DTSTART;TZID=America/Detroit:20221006T140000
DTEND;TZID=America/Detroit:20221006T180000
DTSTAMP:20260420T071109
CREATED:20220923T130046Z
LAST-MODIFIED:20221005T203544Z
UID:2421-1665064800-1665079200@miapwaevents.com
SUMMARY:Grand Rapids Water Facility Tour - YP Event
DESCRIPTION:Please join us on October 6\, 2022\, at 2:00 PM\, for a tour of the City of Grand Rapids Biodigester/Water Recovery Facility! Spend the afternoon learning about the City’s treatment system and many of their green initiatives. \nThe facility is located at: \n1300 Market Ave SW\, Grand Rapids\, MI 49503 \nFollowing the tour\, join us at Founders Brewing\, at 4:00 PM\, to catch up with or get to know fellow public works professionals. The brewery is located at: \n235 Cesar E. Chavez Ave SW\, Grand Rapids\, MI 49503 \nPublic works young professionals are able to attend both the facility tour and/or the social gathering. Registration is required for both. Space is limited. \nThe food and drinks during the social gathering will be sponsored by:
URL:https://miapwaevents.com/event/grand-rapids-water-facility-tour-yp-event/
LOCATION:Grand Rapids Biodigester/Water Recovery Facility\, 1300 Market SW\, Grand Rapids\, 49503\, United States
CATEGORIES:Young Professionals
ORGANIZER;CN="April Bonkowski":MAILTO:abonkowski@pccmich.com
END:VEVENT
BEGIN:VEVENT
DTSTART;VALUE=DATE:20221012
DTEND;VALUE=DATE:20221013
DTSTAMP:20260420T071109
CREATED:20220318T003957Z
LAST-MODIFIED:20220318T003957Z
UID:315-1665532800-1665619199@miapwaevents.com
SUMMARY:Midwest Branch Snowplow Roadeo
DESCRIPTION:Please look for an upcoming email with more details. \nRegistration will start in the summer.
URL:https://miapwaevents.com/event/midwest-branch-snowplow-roadeo/
LOCATION:Ottawa County Road Commission\, 475 North 68th Ave\, Coopersville\, MI\, United States
CATEGORIES:Branch Events
ATTACH;FMTTYPE=image/jpeg:https://miapwaevents.com/wp-content/uploads/2022/03/Midwest-snowplow.jpg
END:VEVENT
BEGIN:VEVENT
DTSTART;VALUE=DATE:20221020
DTEND;VALUE=DATE:20221021
DTSTAMP:20260420T071109
CREATED:20220318T003645Z
LAST-MODIFIED:20221003T141356Z
UID:311-1666224000-1666310399@miapwaevents.com
SUMMARY:Snow Plow Operator and Fleet Maintenance Training  Two great seminars being held concurrently!
DESCRIPTION:  \n  \nSnow Plow Operator Training \nThe course will provide an overview for new and seasonal drivers and will include snow plow basics\, motor carrier regulation overview\, course training with their own truck.  This training will involve teams of three drivers per community.  One will act as a trainer with the other two trainees. \nTeams will provide their own trucks and front plow.  Please remember to bring safety vests as you must wear them while out on the course. \nOPERATIONS (SPOT) AGENDA \n\n7 – 8:15 am         Registration + Breakfast + Welcome + View Exhibitors\n8:15 – 9:00 am   DOT Regulations (FLEET & ALL SPOT)\n9:15 – 9:30 am   SPOT welcome and breakout\n9:30 – 11:15 am\n\nGroup 1 Classroom – (PRETRIP\, BEST PRACTICES)\nGroup 2 Course – (range course\, defect truck)\n\n\n12:00 – 1:00 pm      Lunch + View Exhibitors\n1:00 – 2:45 pm\n\nGroup 2 Classroom – (PRETRIP\, BEST PRACTICES)\nGroup 1 Course – (range course\, defect truck)\n\n\n2:45 – 3:00 pm         Takeaways & Wrap-up\n\n\nFleet Maintenance \nThe Fleet Maintenance Seminar is a great opportunity for Fleet Managers and Technicians to learn about typical preventative maintenance processes.  They will also find out more about emerging trends in our field. \n2022 AGENDA ITEMS \n\nSNOW THROWER & SMALL EQUIPMENT MAINTENANCE\nWHEEL BEARING SERVICING\nLUBRICATION – INDUSTRY TRENDS\nTIE DOWN/EXTRACATION OVERVIEW
URL:https://miapwaevents.com/event/snow-plow-operator-and-fleet-maintenance-training/
LOCATION:Suburban Collection Showplace\, 46100 Grand River Ave\, Novi\, MI\, 48374\, United States
CATEGORIES:Chapter Events
ATTACH;FMTTYPE=image/jpeg:https://miapwaevents.com/wp-content/uploads/2022/03/SPOT.jpg
END:VEVENT
BEGIN:VEVENT
DTSTART;VALUE=DATE:20221024
DTEND;VALUE=DATE:20221029
DTSTAMP:20260420T071109
CREATED:20220318T002339Z
LAST-MODIFIED:20220318T002339Z
UID:302-1666569600-1667001599@miapwaevents.com
SUMMARY:Roads Scholar Program
DESCRIPTION:The APWA Michigan Chapter is proud to announce the 2022 APWA Michigan Roads Scholar Program (MRSP) on October 24-28\, 2022 at the Comfort Inn & Suites Conference Center in Mt. Pleasant\, Michigan! \nMRSP is designed to meet the training needs for frontline public works employees. This three-year (one week per year) program is designed to train in most aspects of municipal road right-of-way work tasks and is non-sequential so that one may start the three-year cycle at any time. \nOffering a powerful collection of training sessions\, this program is designed to bring your career to a new level of professionalism. Topics covered during the three years: \n\nOSHA 10-Hour Course\nWork Zone Safety\nSnow and Ice Control\nFlagger Certification\nTraffic Incident Management\nEquipment Operations and Safety\nMutual Aid Disaster Training\nPlan Sets\, Grade Setting\, and GIS\nAccessibility Guidelines\nMUTCD/Signage Standards\nPavement Management\nTree Pruning/Chainsaw & Chipper Safety\nDriving/Trailer Safety\nPesticide Use/Licensing\nPipe Materials/Construction Techniques\nTrenching/Shoring\n\nMake plans to join us October 24-28\, 2022 in Mt. Pleasant\, Michigan at the Comfort Inn & Suites Conference Center for this innovative comprehensive training program.  Registration is $749 and includes classes\, materials\, breaks and the following meals.  Breakfast on Tuesday through Friday; lunch on Tuesday through Thursday; dinner on Thursday. \nFor lodging arrangements call the Mt. Pleasant Comfort Inn & Suites at 989-772-4000 and mention you are with APWA MRSP to receive the discounted rates. Do not make reservations on the websites. \nWe are accepting 40 first year registrants and welcome previous attendees\, all must be registered by the October 7\, 2022.   Participants who successfully attend all three training years will be designated as an APWA Michigan Roads Scholar and will be recognized at Thursday’s evening picnic. \nRegister today! You won’t want to miss this specialized training – deadline is October 7\, 2022 \nClick here to register. \nMRSP Registration Invoice \nMRSP Packet
URL:https://miapwaevents.com/event/roads-scholar-program/
LOCATION:Comfort Inn Conference Center\, Mt Pleasant\, 2424 South Mission Street\, Mt Pleasant\, MI\, 48858\, United States
CATEGORIES:Chapter Events
ATTACH;FMTTYPE=image/jpeg:https://miapwaevents.com/wp-content/uploads/2022/03/MRSP_Logo.jpg
END:VEVENT
BEGIN:VEVENT
DTSTART;VALUE=DATE:20221029
DTEND;VALUE=DATE:20221030
DTSTAMP:20260420T071109
CREATED:20220429T143604Z
LAST-MODIFIED:20221005T143010Z
UID:1433-1667001600-1667087999@miapwaevents.com
SUMMARY:Annual Football Tailgate
DESCRIPTION:Join us for the Second Annual Football Tailgate! \nThis year the event will take place in Ann Arbor on October 29th before the Michigan State vs Michigan football game. \nTickets will include food\, beverages access to the tent and big screen TV. \nTent location will be shared with registered members.
URL:https://miapwaevents.com/event/annual-football-tailgate/
LOCATION:Michigan Stadium “The Big House”\, 1201 S Main Street\, Ann Arbor\, MI\, 48104\, United States
CATEGORIES:Chapter Events
ATTACH;FMTTYPE=image/jpeg:https://miapwaevents.com/wp-content/uploads/2022/04/Untitled-1.jpg
ORGANIZER;CN="Tracy Spencer":MAILTO:tspencer@bellequip.com
END:VEVENT
END:VCALENDAR