BEGIN:VCALENDAR
VERSION:2.0
PRODID:-//MI-APWA Events - ECPv6.15.17//NONSGML v1.0//EN
CALSCALE:GREGORIAN
METHOD:PUBLISH
X-WR-CALNAME:MI-APWA Events
X-ORIGINAL-URL:https://miapwaevents.com
X-WR-CALDESC:Events for MI-APWA Events
REFRESH-INTERVAL;VALUE=DURATION:PT1H
X-Robots-Tag:noindex
X-PUBLISHED-TTL:PT1H
BEGIN:VTIMEZONE
TZID:America/Detroit
BEGIN:DAYLIGHT
TZOFFSETFROM:-0500
TZOFFSETTO:-0400
TZNAME:EDT
DTSTART:20210314T070000
END:DAYLIGHT
BEGIN:STANDARD
TZOFFSETFROM:-0400
TZOFFSETTO:-0500
TZNAME:EST
DTSTART:20211107T060000
END:STANDARD
BEGIN:DAYLIGHT
TZOFFSETFROM:-0500
TZOFFSETTO:-0400
TZNAME:EDT
DTSTART:20220313T070000
END:DAYLIGHT
BEGIN:STANDARD
TZOFFSETFROM:-0400
TZOFFSETTO:-0500
TZNAME:EST
DTSTART:20221106T060000
END:STANDARD
BEGIN:DAYLIGHT
TZOFFSETFROM:-0500
TZOFFSETTO:-0400
TZNAME:EDT
DTSTART:20230312T070000
END:DAYLIGHT
BEGIN:STANDARD
TZOFFSETFROM:-0400
TZOFFSETTO:-0500
TZNAME:EST
DTSTART:20231105T060000
END:STANDARD
END:VTIMEZONE
BEGIN:VTIMEZONE
TZID:UTC
BEGIN:STANDARD
TZOFFSETFROM:+0000
TZOFFSETTO:+0000
TZNAME:UTC
DTSTART:20210101T000000
END:STANDARD
END:VTIMEZONE
BEGIN:VEVENT
DTSTART;VALUE=DATE:20220504
DTEND;VALUE=DATE:20220505
DTSTAMP:20260420T140342
CREATED:20220317T204637Z
LAST-MODIFIED:20220405T133811Z
UID:275-1651622400-1651708799@miapwaevents.com
SUMMARY:Detroit Tigers Outing
DESCRIPTION:Join the MI APWA Chapter for an afternoon of baseball at our Second Annual Tigers Outing! T-shirt and tailgating included! \nDetroit Tigers vs. Pittsburgh Pirates \nTailgating\nTime: 11:00 AM\nLocation: OHM Advisors (1145 Griswold Street\, Suite 200\, Detroit)  \nGame\nTime: 1:10 PM\nLocation: Comerica Park
URL:https://miapwaevents.com/event/detroit-tigers-outing/
LOCATION:Comerica Park\, Detroit\, 2100 Woodward Ave\, Detroit\, MI\, 48201\, United States
CATEGORIES:Chapter Events
ATTACH;FMTTYPE=image/jpeg:https://miapwaevents.com/wp-content/uploads/2022/03/Untitled-1.jpg
END:VEVENT
BEGIN:VEVENT
DTSTART;VALUE=DATE:20220524
DTEND;VALUE=DATE:20220527
DTSTAMP:20260420T140342
CREATED:20220303T224521Z
LAST-MODIFIED:20220525T154737Z
UID:90-1653350400-1653609599@miapwaevents.com
SUMMARY:Great Lakes Expo
DESCRIPTION:Click here to download the Expo Program\nHOTEL RESERVATIONS \nClick here to make your room reservation. \nHotel reservations must be made with Boyne Mountain Resort by April 23\, 2022. \nReservation requests received after that date will be made based upon availability. \nEXHIBITORS \nFollowing MI-APWA policy\, in order to exhibit at the Great Lakes Expo\, you must register for one Full Conference Attendee in addition to the Standard Exhibit Booth. \nEach exhibitor will be limited to one standard exhibit booth. \nEJ FOUNDRY TOUR \nNew this year! EJ has offered to host four foundry tours at their new location in Elmira. Each tour will be limited to 25 attendees. Transportation will be provided. The tour dates/time are below. If you are interested in attending\, please fill out the interest form here. You will receive a final attendance confirmation from James Cassel with EJ. \nWednesday\, May 25th\n9:15am-10:45am\n10:15am-11:45am \nThursday\, May 26th\n7:45am-9:15am\n8:45am-10:15am \nCANCELLATION POLICY \nIn order to receive a full refund\, cancellation requests must be received before Monday\, May 16th. Cancellation requests received on or after this date (Monday\, May 16th) will not be refunded.
URL:https://miapwaevents.com/event/2022-great-lakes-expo/
LOCATION:Boyne Mountain Resort\, 1 Boyne Mountain Rd\, Boyne Falls\, MI\, 49713\, United States
CATEGORIES:Chapter Events,Great Lakes Expo
ATTACH;FMTTYPE=image/jpeg:https://miapwaevents.com/wp-content/uploads/2022/03/Boyne--e1646329744939.jpg
END:VEVENT
END:VCALENDAR