BEGIN:VCALENDAR
VERSION:2.0
PRODID:-//MI-APWA Events - ECPv6.15.17//NONSGML v1.0//EN
CALSCALE:GREGORIAN
METHOD:PUBLISH
X-WR-CALNAME:MI-APWA Events
X-ORIGINAL-URL:https://miapwaevents.com
X-WR-CALDESC:Events for MI-APWA Events
REFRESH-INTERVAL;VALUE=DURATION:PT1H
X-Robots-Tag:noindex
X-PUBLISHED-TTL:PT1H
BEGIN:VTIMEZONE
TZID:America/Detroit
BEGIN:DAYLIGHT
TZOFFSETFROM:-0500
TZOFFSETTO:-0400
TZNAME:EDT
DTSTART:20210314T070000
END:DAYLIGHT
BEGIN:STANDARD
TZOFFSETFROM:-0400
TZOFFSETTO:-0500
TZNAME:EST
DTSTART:20211107T060000
END:STANDARD
BEGIN:DAYLIGHT
TZOFFSETFROM:-0500
TZOFFSETTO:-0400
TZNAME:EDT
DTSTART:20220313T070000
END:DAYLIGHT
BEGIN:STANDARD
TZOFFSETFROM:-0400
TZOFFSETTO:-0500
TZNAME:EST
DTSTART:20221106T060000
END:STANDARD
BEGIN:DAYLIGHT
TZOFFSETFROM:-0500
TZOFFSETTO:-0400
TZNAME:EDT
DTSTART:20230312T070000
END:DAYLIGHT
BEGIN:STANDARD
TZOFFSETFROM:-0400
TZOFFSETTO:-0500
TZNAME:EST
DTSTART:20231105T060000
END:STANDARD
END:VTIMEZONE
BEGIN:VEVENT
DTSTART;TZID=America/Detroit:20221213T113000
DTEND;TZID=America/Detroit:20221213T150000
DTSTAMP:20260420T055203
CREATED:20221109T164450Z
LAST-MODIFIED:20221207T163012Z
UID:2724-1670931000-1670943600@miapwaevents.com
SUMMARY:Detroit Metro Branch Holiday Meeting
DESCRIPTION:LET’S PLAY! \nJoin us at the APWA Detroit Metro Branch Holiday Meeting \nThe holiday party is scheduled for Tuesday\, December 13th at On the Dunes in Commerce.  Activities will include lunch\, street curling\, axe throwing\, football bowling\, and golf simulators with cash bar.   Please come dressed to play.  Golf clubs are not provided – clubs are available to rent or bring your own. RSVP to Jenny Kales at jkales@hrcengr.com  .  Please let her know if there are any dietary restrictions. \nMore  info – onthedunessports.com. \nThe Detroit Metro Branch is seeking sponsors to assist with the costs of the activities and perhaps provide bar time.    Should you be interested be contact  Brandy Siedlaczek at  bsiedlaczek@cityofsouthfield.com.
URL:https://miapwaevents.com/event/detroit-metro-branch-holiday-meeting/
LOCATION:On the Dunes Sports\, 2055 Haggerty Hwy\, Commerce Twp\, MI\, 48390\, United States
CATEGORIES:Branch Events
ATTACH;FMTTYPE=image/jpeg:https://miapwaevents.com/wp-content/uploads/2022/11/lightedchristmastrees1.jpg
ORGANIZER;CN="Nancy Kolinski":MAILTO:nkolinski@hrcengr.com
END:VEVENT
END:VCALENDAR