BEGIN:VCALENDAR
VERSION:2.0
PRODID:-//MI-APWA Events - ECPv6.15.17//NONSGML v1.0//EN
CALSCALE:GREGORIAN
METHOD:PUBLISH
X-ORIGINAL-URL:https://miapwaevents.com
X-WR-CALDESC:Events for MI-APWA Events
REFRESH-INTERVAL;VALUE=DURATION:PT1H
X-Robots-Tag:noindex
X-PUBLISHED-TTL:PT1H
BEGIN:VTIMEZONE
TZID:America/Detroit
BEGIN:DAYLIGHT
TZOFFSETFROM:-0500
TZOFFSETTO:-0400
TZNAME:EDT
DTSTART:20210314T070000
END:DAYLIGHT
BEGIN:STANDARD
TZOFFSETFROM:-0400
TZOFFSETTO:-0500
TZNAME:EST
DTSTART:20211107T060000
END:STANDARD
BEGIN:DAYLIGHT
TZOFFSETFROM:-0500
TZOFFSETTO:-0400
TZNAME:EDT
DTSTART:20220313T070000
END:DAYLIGHT
BEGIN:STANDARD
TZOFFSETFROM:-0400
TZOFFSETTO:-0500
TZNAME:EST
DTSTART:20221106T060000
END:STANDARD
BEGIN:DAYLIGHT
TZOFFSETFROM:-0500
TZOFFSETTO:-0400
TZNAME:EDT
DTSTART:20230312T070000
END:DAYLIGHT
BEGIN:STANDARD
TZOFFSETFROM:-0400
TZOFFSETTO:-0500
TZNAME:EST
DTSTART:20231105T060000
END:STANDARD
END:VTIMEZONE
BEGIN:VEVENT
DTSTART;TZID=America/Detroit:20221201T113000
DTEND;TZID=America/Detroit:20221201T133000
DTSTAMP:20260420T055256
CREATED:20221109T213428Z
LAST-MODIFIED:20221117T160353Z
UID:2737-1669894200-1669901400@miapwaevents.com
SUMMARY:Downriver Branch Annual Meeting/Christmas Luncheon
DESCRIPTION:The Downriver Branch is continuing the tradition to support the children in the Downriver area during the holiday season. This year the Board has approved the Toy for Tots program. We are asking members to bring a new unwrapped toy to the Christmas luncheon. Proceeds from the 50/50 raffle and any cash donations will also be given to the program. \nTopic: Election of 2023 Officers\, Toys For Tots Program\, Service and Project Awards \nVendors – we are looking for gifts or bottles of cheer for door prizes
URL:https://miapwaevents.com/event/downriver-branch-annual-meeting-christmas-luncheon/
LOCATION:Lakes of Taylor\, 25505 Northline Rd\, Taylor\, MI\, 48180\, United States
ATTACH;FMTTYPE=image/jpeg:https://miapwaevents.com/wp-content/uploads/2022/11/LAKES-OF-TAYLOR-CHRISTMAS-PICTURE.jpg
ORGANIZER;CN="Bill Fisher":MAILTO:william.fisher@wsp.com
END:VEVENT
END:VCALENDAR