BEGIN:VCALENDAR
VERSION:2.0
PRODID:-//MI-APWA Events - ECPv6.15.17//NONSGML v1.0//EN
CALSCALE:GREGORIAN
METHOD:PUBLISH
X-ORIGINAL-URL:https://miapwaevents.com
X-WR-CALDESC:Events for MI-APWA Events
REFRESH-INTERVAL;VALUE=DURATION:PT1H
X-Robots-Tag:noindex
X-PUBLISHED-TTL:PT1H
BEGIN:VTIMEZONE
TZID:America/Detroit
BEGIN:DAYLIGHT
TZOFFSETFROM:-0500
TZOFFSETTO:-0400
TZNAME:EDT
DTSTART:20210314T070000
END:DAYLIGHT
BEGIN:STANDARD
TZOFFSETFROM:-0400
TZOFFSETTO:-0500
TZNAME:EST
DTSTART:20211107T060000
END:STANDARD
BEGIN:DAYLIGHT
TZOFFSETFROM:-0500
TZOFFSETTO:-0400
TZNAME:EDT
DTSTART:20220313T070000
END:DAYLIGHT
BEGIN:STANDARD
TZOFFSETFROM:-0400
TZOFFSETTO:-0500
TZNAME:EST
DTSTART:20221106T060000
END:STANDARD
BEGIN:DAYLIGHT
TZOFFSETFROM:-0500
TZOFFSETTO:-0400
TZNAME:EDT
DTSTART:20230312T070000
END:DAYLIGHT
BEGIN:STANDARD
TZOFFSETFROM:-0400
TZOFFSETTO:-0500
TZNAME:EST
DTSTART:20231105T060000
END:STANDARD
END:VTIMEZONE
BEGIN:VEVENT
DTSTART;VALUE=DATE:20220926
DTEND;VALUE=DATE:20220927
DTSTAMP:20260420T083341
CREATED:20220318T002857Z
LAST-MODIFIED:20220912T203204Z
UID:305-1664150400-1664236799@miapwaevents.com
SUMMARY:Mideast Branch Golf Outing
DESCRIPTION:Join us for the Mid-East Branch APWA’s SECOND ANNUAL LES BLAND MEMORIAL SCHOLARSHIP GOLF OUTING in memory of an amazing\, long-standing APWA member and wonderful advocate of the profession\, Les Bland.  Proceeds from the golf outing will support a scholarship to the Michigan Public Services Institute in Les’ memory\, a program that was near and dear to Les.  What better time to meet up with colleagues to share stories of your ongoing public works projects while hitting the greens all while honoring the memory of one of APWA’s finest\, Les Bland! \nThe outing is being held at Sandy Ridge Golf Course in Midland with dinner to follow.  Registration begins at 8:00 a.m. with a continental breakfast and a 9:00 a.m. shot gun start.  The cost is $100.00 per person. Price includes 18-holes of golf with cart and dinner to follow.  Lunch will be provided at the turn….hot dog with soft drinks. \nAll we need are you and your DPW friends to make this the best golf outing we have had yet\, so please join us FORE a fun-filled day on the course to show our appreciation for Les!! \nMake checks payable to Mid-Eastern Branch of APWA. \nMail To:     Karen Murphy \nCity of Midland \n333 W. Ellsworth St. \nMidland\, MI  48640 \n\n\n\n\n\n\n\n 
URL:https://miapwaevents.com/event/mideast-branch-golf-outing/
LOCATION:Sandy Ridge Golf Course\, 2750 Lauria Road\, Midland\, MI\, 48642\, United States
CATEGORIES:Branch Events
ATTACH;FMTTYPE=image/jpeg:https://miapwaevents.com/wp-content/uploads/2022/03/Bay-Valley.jpg
ORGANIZER;CN="Karen Murphy":MAILTO:kmurphy@midland-mi.org
END:VEVENT
END:VCALENDAR