BEGIN:VCALENDAR
VERSION:2.0
PRODID:-//MI-APWA Events - ECPv6.15.17//NONSGML v1.0//EN
CALSCALE:GREGORIAN
METHOD:PUBLISH
X-ORIGINAL-URL:https://miapwaevents.com
X-WR-CALDESC:Events for MI-APWA Events
REFRESH-INTERVAL;VALUE=DURATION:PT1H
X-Robots-Tag:noindex
X-PUBLISHED-TTL:PT1H
BEGIN:VTIMEZONE
TZID:America/Detroit
BEGIN:DAYLIGHT
TZOFFSETFROM:-0500
TZOFFSETTO:-0400
TZNAME:EDT
DTSTART:20210314T070000
END:DAYLIGHT
BEGIN:STANDARD
TZOFFSETFROM:-0400
TZOFFSETTO:-0500
TZNAME:EST
DTSTART:20211107T060000
END:STANDARD
BEGIN:DAYLIGHT
TZOFFSETFROM:-0500
TZOFFSETTO:-0400
TZNAME:EDT
DTSTART:20220313T070000
END:DAYLIGHT
BEGIN:STANDARD
TZOFFSETFROM:-0400
TZOFFSETTO:-0500
TZNAME:EST
DTSTART:20221106T060000
END:STANDARD
BEGIN:DAYLIGHT
TZOFFSETFROM:-0500
TZOFFSETTO:-0400
TZNAME:EDT
DTSTART:20230312T070000
END:DAYLIGHT
BEGIN:STANDARD
TZOFFSETFROM:-0400
TZOFFSETTO:-0500
TZNAME:EST
DTSTART:20231105T060000
END:STANDARD
END:VTIMEZONE
BEGIN:VEVENT
DTSTART;TZID=America/Detroit:20220817T180000
DTEND;TZID=America/Detroit:20220817T220000
DTSTAMP:20260420T111950
CREATED:20220718T160556Z
LAST-MODIFIED:20220810T152349Z
UID:2048-1660759200-1660773600@miapwaevents.com
SUMMARY:Young Professionals Baseball Outing
DESCRIPTION:Join the MI APWA Young Professionals for a night at Jimmy John’s Field! \nAPWA members and immediate family or a guest are invited to join us for a fun night at the Chevy Left Field Patio at Jimmy John’s Field to watch the Utica Unicorns take on the Eastside Diamond Hoppers. \nDinner will be served 1 hour prior to the start of the game and last 90 minutes. Tickets will be distributed to guests ahead of time via email as all tickets are virtual. Your virtual game ticket will also serve as your drink ticket. \nGame parking is free of charge in area public parking lots located in the city of Utica. Spaces are on a first-come\, first-served basis. \nWe encourage everyone to bring business cards to create connections and join in on some fun group activities! \nPlease RSVP by August 12\, 2022\, to secure your spot!
URL:https://miapwaevents.com/event/young-professionals-baseball-outing/
LOCATION:Jimmy John’s Field\, 7171 Auburn Road\, Utica\, MI\, 48317\, United States
ORGANIZER;CN="Mike Freckelton":MAILTO:freckeltonm@scsmi.net
END:VEVENT
END:VCALENDAR