BEGIN:VCALENDAR
VERSION:2.0
PRODID:-//MI-APWA Events - ECPv6.15.17//NONSGML v1.0//EN
CALSCALE:GREGORIAN
METHOD:PUBLISH
X-ORIGINAL-URL:https://miapwaevents.com
X-WR-CALDESC:Events for MI-APWA Events
REFRESH-INTERVAL;VALUE=DURATION:PT1H
X-Robots-Tag:noindex
X-PUBLISHED-TTL:PT1H
BEGIN:VTIMEZONE
TZID:America/Detroit
BEGIN:DAYLIGHT
TZOFFSETFROM:-0500
TZOFFSETTO:-0400
TZNAME:EDT
DTSTART:20210314T070000
END:DAYLIGHT
BEGIN:STANDARD
TZOFFSETFROM:-0400
TZOFFSETTO:-0500
TZNAME:EST
DTSTART:20211107T060000
END:STANDARD
BEGIN:DAYLIGHT
TZOFFSETFROM:-0500
TZOFFSETTO:-0400
TZNAME:EDT
DTSTART:20220313T070000
END:DAYLIGHT
BEGIN:STANDARD
TZOFFSETFROM:-0400
TZOFFSETTO:-0500
TZNAME:EST
DTSTART:20221106T060000
END:STANDARD
BEGIN:DAYLIGHT
TZOFFSETFROM:-0500
TZOFFSETTO:-0400
TZNAME:EDT
DTSTART:20230312T070000
END:DAYLIGHT
BEGIN:STANDARD
TZOFFSETFROM:-0400
TZOFFSETTO:-0500
TZNAME:EST
DTSTART:20231105T060000
END:STANDARD
END:VTIMEZONE
BEGIN:VEVENT
DTSTART;TZID=America/Detroit:20220809T110000
DTEND;TZID=America/Detroit:20220809T110000
DTSTAMP:20260420T112006
CREATED:20220708T175334Z
LAST-MODIFIED:20220708T175933Z
UID:2008-1660042800-1660042800@miapwaevents.com
SUMMARY:Midwest Branch Lunch & Learn
DESCRIPTION:The APWA Midwest Michigan Branch is hosting another Lunch and Learn!\nCome listen to Andrew Reinhardt\, with the Kent County Road Commission\, discuss the best practices to protect our environment during construction. Proper silt fence installation\, keeping dirt off roadways and catch basins\, jobsite inspections\, etc. \nArrival is at 11am with lunch and presentation at 11:30am. \nNo need to be an existing APWA member\, come and see what the APWA is all about. \n  \nQuestions can be sent to: manderson@nortonshores.org \n  \n 
URL:https://miapwaevents.com/event/midwest-branch-lunch-learn-080922/
LOCATION:Millennium Park – Pavilion B\, 1415 Maynard Ave. SW\, Walker\, MI\, 49534\, United States
CATEGORIES:Branch Events
END:VEVENT
END:VCALENDAR